BEGIN:VCALENDAR
VERSION:2.0
PRODID:-//UNION SOCIAL - ECPv6.15.20//NONSGML v1.0//EN
CALSCALE:GREGORIAN
METHOD:PUBLISH
X-WR-CALNAME:UNION SOCIAL
X-ORIGINAL-URL:https://unionsocialsf.com
X-WR-CALDESC:Events for UNION SOCIAL
REFRESH-INTERVAL;VALUE=DURATION:PT1H
X-Robots-Tag:noindex
X-PUBLISHED-TTL:PT1H
BEGIN:VTIMEZONE
TZID:America/Chicago
BEGIN:DAYLIGHT
TZOFFSETFROM:-0600
TZOFFSETTO:-0500
TZNAME:CDT
DTSTART:20250309T080000
END:DAYLIGHT
BEGIN:STANDARD
TZOFFSETFROM:-0500
TZOFFSETTO:-0600
TZNAME:CST
DTSTART:20251102T070000
END:STANDARD
BEGIN:DAYLIGHT
TZOFFSETFROM:-0600
TZOFFSETTO:-0500
TZNAME:CDT
DTSTART:20260308T080000
END:DAYLIGHT
BEGIN:STANDARD
TZOFFSETFROM:-0500
TZOFFSETTO:-0600
TZNAME:CST
DTSTART:20261101T070000
END:STANDARD
BEGIN:DAYLIGHT
TZOFFSETFROM:-0600
TZOFFSETTO:-0500
TZNAME:CDT
DTSTART:20270314T080000
END:DAYLIGHT
BEGIN:STANDARD
TZOFFSETFROM:-0500
TZOFFSETTO:-0600
TZNAME:CST
DTSTART:20271107T070000
END:STANDARD
END:VTIMEZONE
BEGIN:VEVENT
DTSTART;TZID=America/Chicago:20260422T110000
DTEND;TZID=America/Chicago:20260422T220000
DTSTAMP:20260422T051332
CREATED:20260120T214210Z
LAST-MODIFIED:20260127T225732Z
UID:4773-1776855600-1776895200@unionsocialsf.com
SUMMARY:Wednesday Drink Special: $20 Margarita & Sangria Pitchers
DESCRIPTION:PITCH(ER) PERFECT WEDNESDAYSThe remix you actually want. \n\n\n\nBecause on Wednesdays… we pour BIG.Welcome to midweek done right at Union Social. \n\n\n\nEvery Wednesday11:00 AM – 10:00 PM \n\n\n\n$20 MARGARITA & SANGRIA PITCHERSALL. DAY. LONG. \n\n\n\nShare with friends… or don’t.We don’t judge. \n\n\n\nHAPPY HOUR BONUS (3PM–6PM)$2 OFF Wine by the Glass$2 OFF Specialty Cocktails$2 OFF ALL Appetizers$3 & $5 Drafts
URL:https://unionsocialsf.com/event/wednesdays-20-margarita-sangria-pitchers-all-day-long-12/
CATEGORIES:Drink Specials
ATTACH;FMTTYPE=image/jpeg:https://unionsocialsf.com/wp-content/uploads/2026/01/561780894_670917116081650_2971536686722724238_n.jpg
END:VEVENT
BEGIN:VEVENT
DTSTART;TZID=America/Chicago:20260423T110000
DTEND;TZID=America/Chicago:20260423T220000
DTSTAMP:20260422T051332
CREATED:20260127T235502Z
LAST-MODIFIED:20260127T235508Z
UID:5323-1776942000-1776981600@unionsocialsf.com
SUMMARY:Thursday Drink Special: Buckets starting at $17
DESCRIPTION:THIRST TRAP THURSDAYSBuckets start at $17. Self-control not included. \n\n\n\nHydration is important.That’s why we serve it by the bucket at Union Social. \n\n\n\nEvery Thursday11:00 AM – 10:00 PM \n\n\n\nBUCKET LINEUP– Domestic Bucket – $17– Import / Craft Bucket – $24– Seltzer Bucket – $30
URL:https://unionsocialsf.com/event/thursday-drink-special-buckets-starting-at-17-18/
CATEGORIES:Drink Specials
ATTACH;FMTTYPE=image/jpeg:https://unionsocialsf.com/wp-content/uploads/2026/01/615522096_744228268750534_7075805237619408069_n.jpg
END:VEVENT
BEGIN:VEVENT
DTSTART;TZID=America/Chicago:20260427T110000
DTEND;TZID=America/Chicago:20260427T220000
DTSTAMP:20260422T051332
CREATED:20260120T200324Z
LAST-MODIFIED:20260127T222615Z
UID:4722-1777287600-1777327200@unionsocialsf.com
SUMMARY:Monday Drink Special: All-Day Draft Deals
DESCRIPTION:MONDAY REDEMPTION \n\n\n\nBecause Mondays shouldn’t be punished… they should be rewarded. \n\n\n\nForget Case of the Mondays. \n\n\n\nAt Union Social\, we’re flipping the script and turning the worst day of the week into the BEST day out. \n\n\n\nEvery Monday:11:00 AM – 10:00 PM (Yep… ALL DAY DEALS)ALL-DAY DRAFT DEALSEvery draft. Every size. All day long. \n\n\n\n16oz Drafts \n\n\n\n\n$3 Domestics\n\n\n\n$4 Crafts\n\n\n\n\n22oz Drafts \n\n\n\n\n$4 Domestics\n\n\n\n$6 Crafts\n\n\n\n\nIf it’s on draft\, it’s discounted. No excuses. No limits. \n\n\n\nHAPPY HOUR (3PM–6PM)Because Mondays deserve extra love.$2 OFF Wines by the Glass$2 OFF Specialty Cocktails$2 OFF ALL Appetizers
URL:https://unionsocialsf.com/event/mondraft-monday-all-day-long-discounted-drafts-14/
CATEGORIES:Drink Specials
ATTACH;FMTTYPE=image/jpeg:https://unionsocialsf.com/wp-content/uploads/2026/01/565898850_670905416082820_192281520794323651_n.jpg
END:VEVENT
BEGIN:VEVENT
DTSTART;TZID=America/Chicago:20260428T110000
DTEND;TZID=America/Chicago:20260428T220000
DTSTAMP:20260422T051332
CREATED:20260120T215526Z
LAST-MODIFIED:20260127T223555Z
UID:4819-1777374000-1777413600@unionsocialsf.com
SUMMARY:Tuesday Drink Special: $6 Martinis
DESCRIPTION:$6 MARTINI MAMA TUESDAY \n\n\n\nBecause therapy is expensive…but martinis with the girlies are only SIX DOLLARS. \n\n\n\nEvery Tuesday11:00 AM – 10:00 PM \n\n\n\n$6 MARTINIS. ALL. DAY. LONG. \n\n\n\nShaken? Stirred? Dirty? Fancy?Extra bougie with whipped cream on top?Say less. We’ve got you. \n\n\n\nWHO THIS IS FOR:Moms “running errands”Girls night that actually deliversAfter-work stress reliefBowling + martinis = elite energy \n\n\n\n(Yes\, bowling with a martini does count as self-care.) \n\n\n\nHAPPY HOUR BONUS (Mon–Fri | 3PM–6PM)$2 OFF wines by the glass $2 OFF specialty cocktails$2 OFF ALL appetizers$3 & $5 draft specials \n\n\n\nCome for one martini.Stay for “just one more.”Leave wondering why Tuesdays ever had a bad reputation.
URL:https://unionsocialsf.com/event/6-martini-mama-tuesday-all-day-long-13/
CATEGORIES:Drink Specials
ATTACH;FMTTYPE=image/png:https://unionsocialsf.com/wp-content/uploads/2025/09/5-scaled.png
END:VEVENT
BEGIN:VEVENT
DTSTART;TZID=America/Chicago:20260429T110000
DTEND;TZID=America/Chicago:20260429T220000
DTSTAMP:20260422T051332
CREATED:20260120T214214Z
LAST-MODIFIED:20260127T225723Z
UID:4772-1777460400-1777500000@unionsocialsf.com
SUMMARY:Wednesday Drink Special: $20 Margarita & Sangria Pitchers
DESCRIPTION:PITCH(ER) PERFECT WEDNESDAYSThe remix you actually want. \n\n\n\nBecause on Wednesdays… we pour BIG.Welcome to midweek done right at Union Social. \n\n\n\nEvery Wednesday11:00 AM – 10:00 PM \n\n\n\n$20 MARGARITA & SANGRIA PITCHERSALL. DAY. LONG. \n\n\n\nShare with friends… or don’t.We don’t judge. \n\n\n\nHAPPY HOUR BONUS (3PM–6PM)$2 OFF Wine by the Glass$2 OFF Specialty Cocktails$2 OFF ALL Appetizers$3 & $5 Drafts
URL:https://unionsocialsf.com/event/wednesdays-20-margarita-sangria-pitchers-all-day-long-13/
CATEGORIES:Drink Specials
ATTACH;FMTTYPE=image/jpeg:https://unionsocialsf.com/wp-content/uploads/2026/01/561780894_670917116081650_2971536686722724238_n.jpg
END:VEVENT
BEGIN:VEVENT
DTSTART;TZID=America/Chicago:20260430T110000
DTEND;TZID=America/Chicago:20260430T220000
DTSTAMP:20260422T051332
CREATED:20260127T235359Z
LAST-MODIFIED:20260127T235504Z
UID:5322-1777546800-1777586400@unionsocialsf.com
SUMMARY:Thursday Drink Special: Buckets starting at $17
DESCRIPTION:THIRST TRAP THURSDAYSBuckets start at $17. Self-control not included. \n\n\n\nHydration is important.That’s why we serve it by the bucket at Union Social. \n\n\n\nEvery Thursday11:00 AM – 10:00 PM \n\n\n\nBUCKET LINEUP– Domestic Bucket – $17– Import / Craft Bucket – $24– Seltzer Bucket – $30
URL:https://unionsocialsf.com/event/thursday-drink-special-buckets-starting-at-17-13/
CATEGORIES:Drink Specials
ATTACH;FMTTYPE=image/jpeg:https://unionsocialsf.com/wp-content/uploads/2026/01/615522096_744228268750534_7075805237619408069_n.jpg
END:VEVENT
END:VCALENDAR